BEGIN:VCALENDAR
VERSION:2.0
PRODID:-//ChamberMaster//Event Calendar 2.0//EN
METHOD:PUBLISH
X-PUBLISHED-TTL:P1H
REFRESH-INTERVAL:P1H
CALSCALE:GREGORIAN
BEGIN:VTIMEZONE
TZID:America/New_York
BEGIN:DAYLIGHT
RRULE:FREQ=YEARLY;BYMONTH=3;BYDAY=2SU
DTSTART:20070101T000000
TZOFFSETFROM:-0500
TZOFFSETTO:-0400
TZNAME:Eastern Daylight Time
END:DAYLIGHT
BEGIN:STANDARD
RRULE:FREQ=YEARLY;BYMONTH=11;BYDAY=1SU
DTSTART:20070101T000000
TZOFFSETFROM:-0400
TZOFFSETTO:-0500
TZNAME:Eastern Standard Time
END:STANDARD
END:VTIMEZONE
BEGIN:VEVENT
DTSTART;TZID=America/New_York:20260507T190000
DTEND;TZID=America/New_York:20260507T220000
X-MICROSOFT-CDO-ALLDAYEVENT:FALSE
SUMMARY:City Year Buffalo Gala
DESCRIPTION:City Year Buffalo\n\nJoin City Year Buffalo for a special fundraising event honoring SUNY Chancellor John King as the recipient of the Champion of Service Award. Chancellor King has been instrumental in partnership to launch the Empire State Service Corps and increase academic credit for service across SUNY campuses throughout New York State. His leadership reflects a deep commitment to service as a pathway to civic engagement\, leadership development\, and educational opportunity for students statewide.This event also celebrates the mission of City Year Buffalo: to advance educational equity by supporting students and schools through the power of service and partnerships. City Year AmeriCorps members work alongside teachers in Buffalo schools to provide critical academic\, social\, and emotional supports\, helping students stay on track to graduate and reach their full potential.In addition to honoring Chancellor King\, the event will recognize key champions whose leadership and partnership have been vital to City Year Buffalo's impact. The City Year Buffalo Champion Award will be presented to the organization's founding champions who helped launch City Year Buffalo. The City Year Buffalo Education Award will honor SUNY Erie Community College for their dedication to student success\, and the City Year Buffalo Corporate Champion Award will be presented to KeyBank in recognition of its continued commitment to education\, service\, and the Buffalo community.Together\, this celebration highlights the collective power of service\, leadership\, and partnership in strengthening schools and expanding opportunity for students across Buffalo and New York State.TICKETS\nTicket includes one welcome drink\, one drink ticket\,  food stations and dessert. Dress code is festive formal. A pop of City Year red is encouraged!
X-ALT-DESC;FMTTYPE=text/html:<!DOCTYPE html><html><head><title></title></head><body aria-disabled="false"><p><meta charset="utf-8"></p><div data-olk-copy-source="MessageBody" style="margin: 0px\; padding: 0px\; box-sizing: inherit\; -webkit-font-smoothing: antialiased\; color: rgb(26\, 26\, 26)\; font-family: Mulish\, Arial\, Helvetica\, sans-serif\; font-style: normal\; font-variant-ligatures: normal\; font-variant-caps: normal\; font-weight: 400\; letter-spacing: normal\; orphans: 2\; text-align: left\; text-indent: 0px\; text-transform: none\; widows: 2\; word-spacing: 0px\; -webkit-text-stroke-width: 0px\; white-space: normal\; text-decoration-thickness: initial\; text-decoration-style: initial\; text-decoration-color: initial\; font-size: 22px\;"><span style="font-family: Arial\, Helvetica\, sans-serif\; font-size: 24px\;"><strong fr-original-style="" style="font-weight: 700\;">City Year Buffalo</strong></span><br><br><span style="font-family: Arial\, Helvetica\, sans-serif\; font-size: 14px\;">Join City Year Buffalo for a special fundraising event honoring SUNY Chancellor John King as the recipient of the Champion of Service Award. Chancellor King has been instrumental in partnership to launch the Empire State Service Corps and increase academic credit for service across SUNY campuses throughout New York State. His leadership reflects a deep commitment to service as a pathway to civic engagement\, leadership development\, and educational opportunity for students statewide.</span></div><p style="margin: 0px 0px 15px\; padding: 0px\; box-sizing: inherit\; -webkit-font-smoothing: antialiased\; color: rgb(26\, 26\, 26)\; font-family: Mulish\, Arial\, Helvetica\, sans-serif\; font-style: normal\; font-variant-ligatures: normal\; font-variant-caps: normal\; font-weight: 400\; letter-spacing: normal\; orphans: 2\; text-align: left\; text-indent: 0px\; text-transform: none\; widows: 2\; word-spacing: 0px\; -webkit-text-stroke-width: 0px\; white-space: normal\; text-decoration-thickness: initial\; text-decoration-style: initial\; text-decoration-color: initial\; font-size: 22px\;"><span style="font-size: 14px\;"><span style="font-family: Arial\,Helvetica\,sans-serif\;">This event also celebrates the mission of City Year Buffalo: to advance educational equity by supporting students and schools through the power of service and partnerships. City Year AmeriCorps members work alongside teachers in Buffalo schools to provide critical academic\, social\, and emotional supports\, helping students stay on track to graduate and reach their full potential.</span></span></p><p style="margin: 0px 0px 15px\; padding: 0px\; box-sizing: inherit\; -webkit-font-smoothing: antialiased\; color: rgb(26\, 26\, 26)\; font-family: Mulish\, Arial\, Helvetica\, sans-serif\; font-style: normal\; font-variant-ligatures: normal\; font-variant-caps: normal\; font-weight: 400\; letter-spacing: normal\; orphans: 2\; text-align: left\; text-indent: 0px\; text-transform: none\; widows: 2\; word-spacing: 0px\; -webkit-text-stroke-width: 0px\; white-space: normal\; text-decoration-thickness: initial\; text-decoration-style: initial\; text-decoration-color: initial\; font-size: 22px\;"><span style="font-size: 14px\;"><span style="font-family: Arial\,Helvetica\,sans-serif\;">In addition to honoring Chancellor King\, the event will recognize key champions whose leadership and partnership have been vital to City Year Buffalo&rsquo\;s impact. The City Year Buffalo Champion Award will be presented to the organization&rsquo\;s founding champions who helped launch City Year Buffalo. The City Year Buffalo Education Award will honor SUNY Erie Community College for their dedication to student success\, and the City Year Buffalo Corporate Champion Award will be presented to KeyBank in recognition of its continued commitment to education\, service\, and the Buffalo community.</span></span></p><p style="margin: 0px 0px 15px\; padding: 0px\; box-sizing: inherit\; -webkit-font-smoothing: antialiased\; color: rgb(26\, 26\, 26)\; font-family: Mulish\, Arial\, Helvetica\, sans-serif\; font-style: normal\; font-variant-ligatures: normal\; font-variant-caps: normal\; font-weight: 400\; letter-spacing: normal\; orphans: 2\; text-align: left\; text-indent: 0px\; text-transform: none\; widows: 2\; word-spacing: 0px\; -webkit-text-stroke-width: 0px\; white-space: normal\; text-decoration-thickness: initial\; text-decoration-style: initial\; text-decoration-color: initial\; font-size: 22px\;"><span style="font-size: 14px\;"><span style="font-family: Arial\,Helvetica\,sans-serif\;">Together\, this celebration highlights the collective power of service\, leadership\, and partnership in strengthening schools and expanding opportunity for students across Buffalo and New York State.</span></span></p><p style="margin: 0px 0px 15px\; padding: 0px\; box-sizing: inherit\; -webkit-font-smoothing: antialiased\; color: rgb(26\, 26\, 26)\; font-family: Mulish\, Arial\, Helvetica\, sans-serif\; font-style: normal\; font-variant-ligatures: normal\; font-variant-caps: normal\; font-weight: 400\; letter-spacing: normal\; orphans: 2\; text-align: left\; text-indent: 0px\; text-transform: none\; widows: 2\; word-spacing: 0px\; -webkit-text-stroke-width: 0px\; white-space: normal\; text-decoration-thickness: initial\; text-decoration-style: initial\; text-decoration-color: initial\; font-size: 22px\;"><a fr-original-style="" href="https://support.cityyear.org/event/city-year-buffalo-2026-gala/e763882/register/new/select-tickets" style="user-select: auto\;"><span style="color: rgb(184\, 49\, 47)\;">TICKETS</span></a></p><p style="margin: 0px 0px 15px\; padding: 0px\; box-sizing: inherit\; -webkit-font-smoothing: antialiased\; color: rgb(26\, 26\, 26)\; font-family: Mulish\, Arial\, Helvetica\, sans-serif\; font-style: normal\; font-variant-ligatures: normal\; font-variant-caps: normal\; font-weight: 400\; letter-spacing: normal\; orphans: 2\; text-align: left\; text-indent: 0px\; text-transform: none\; widows: 2\; word-spacing: 0px\; -webkit-text-stroke-width: 0px\; white-space: normal\; text-decoration-thickness: initial\; text-decoration-style: initial\; text-decoration-color: initial\; font-size: 22px\;"><br><span style="font-size: 14px\;"><span style="font-family: Arial\,Helvetica\,sans-serif\;">Ticket includes one welcome drink\, one drink ticket\, &nbsp\;food stations and dessert.&nbsp\;</span></span></p><p style="margin: 0px 0px 15px\; padding: 0px\; box-sizing: inherit\; -webkit-font-smoothing: antialiased\; color: rgb(26\, 26\, 26)\; font-family: Mulish\, Arial\, Helvetica\, sans-serif\; font-style: normal\; font-variant-ligatures: normal\; font-variant-caps: normal\; font-weight: 400\; letter-spacing: normal\; orphans: 2\; text-align: left\; text-indent: 0px\; text-transform: none\; widows: 2\; word-spacing: 0px\; -webkit-text-stroke-width: 0px\; white-space: normal\; text-decoration-thickness: initial\; text-decoration-style: initial\; text-decoration-color: initial\; font-size: 22px\;"><span style="font-family: Arial\, Helvetica\, sans-serif\; font-size: 14px\;">Dress code is festive formal. A pop of City Year red is encouraged!</span></p></body></html>
LOCATION:683 Northland Ave Buffalo NY 14211
UID:e.2793.1450404
SEQUENCE:3
DTSTAMP:20260424T213841Z
URL:https://buffaloniagarapartnership.growthzoneapp.com/bn-360/Details/city-year-buffalo-gala-1718049?sourceTypeId=Hub
END:VEVENT
END:VCALENDAR
